BEGIN:VCALENDAR
VERSION:2.0
PRODID:-//demo.invisionweb.ca//Bot Combined Calendar v1.0.4.192//EN
CALSCALE:GREGORIAN
METHOD:PUBLISH
X-WR-CALNAME:Elementary Combined Events
X-WR-CALDESC:This site + parent site events.
X-WR-TIMEZONE:America/Vancouver
BEGIN:VTIMEZONE
TZID:America/Vancouver
X-LIC-LOCATION:America/Vancouver
BEGIN:STANDARD
TZOFFSETFROM:-0800
TZOFFSETTO:-0800
TZNAME:LT
DTSTART:19700101T000000
END:STANDARD
END:VTIMEZONE
BEGIN:VEVENT
UID:1-514@demo.invisionweb.ca
DTSTAMP:20260419T122203Z
DTSTART;VALUE=DATE:20260518
DTEND;VALUE=DATE:20260519
X-MICROSOFT-CDO-ALLDAYEVENT:TRUE
SUMMARY:Victoria Day
URL:https://demo.invisionweb.ca/event/victoria-day/
END:VEVENT
BEGIN:VEVENT
UID:1-516@demo.invisionweb.ca
DTSTAMP:20260419T122203Z
DTSTART;VALUE=DATE:20260701
DTEND;VALUE=DATE:20260702
X-MICROSOFT-CDO-ALLDAYEVENT:TRUE
SUMMARY:Canada Day
URL:https://demo.invisionweb.ca/event/canada-day/
END:VEVENT
BEGIN:VEVENT
UID:1-520@demo.invisionweb.ca
DTSTAMP:20260419T122203Z
DTSTART;VALUE=DATE:20260907
DTEND;VALUE=DATE:20260908
X-MICROSOFT-CDO-ALLDAYEVENT:TRUE
SUMMARY:Labour Day
URL:https://demo.invisionweb.ca/event/labour-day/
END:VEVENT
BEGIN:VEVENT
UID:1-522@demo.invisionweb.ca
DTSTAMP:20260419T122203Z
DTSTART;VALUE=DATE:20260930
DTEND;VALUE=DATE:20261001
X-MICROSOFT-CDO-ALLDAYEVENT:TRUE
SUMMARY:National Day for Truth and Reconciliation
URL:https://demo.invisionweb.ca/event/national-day-for-truth-and-reconcilia
 tion/
END:VEVENT
BEGIN:VEVENT
UID:1-524@demo.invisionweb.ca
DTSTAMP:20260419T122203Z
DTSTART;VALUE=DATE:20261012
DTEND;VALUE=DATE:20261013
X-MICROSOFT-CDO-ALLDAYEVENT:TRUE
SUMMARY:Thanksgiving Day
URL:https://demo.invisionweb.ca/event/thanksgiving-day/
END:VEVENT
BEGIN:VEVENT
UID:1-526@demo.invisionweb.ca
DTSTAMP:20260419T122203Z
DTSTART;VALUE=DATE:20261111
DTEND;VALUE=DATE:20261112
X-MICROSOFT-CDO-ALLDAYEVENT:TRUE
SUMMARY:Remembrance Day
URL:https://demo.invisionweb.ca/event/remembrance-day/
END:VEVENT
BEGIN:VEVENT
UID:1-528@demo.invisionweb.ca
DTSTAMP:20260419T122203Z
DTSTART;VALUE=DATE:20261225
DTEND;VALUE=DATE:20261226
X-MICROSOFT-CDO-ALLDAYEVENT:TRUE
SUMMARY:Christmas Day
URL:https://demo.invisionweb.ca/event/christmas-day/
END:VEVENT
BEGIN:VEVENT
UID:1-530@demo.invisionweb.ca
DTSTAMP:20260419T122203Z
DTSTART;VALUE=DATE:20261226
DTEND;VALUE=DATE:20261227
X-MICROSOFT-CDO-ALLDAYEVENT:TRUE
SUMMARY:Boxing Day
URL:https://demo.invisionweb.ca/event/boxing-day/
END:VEVENT
END:VCALENDAR
